BEGIN:VCALENDAR
VERSION:2.0
PRODID:-//Ecole d&#039;Aïkido de Concarneau - ECPv6.6.4.2//NONSGML v1.0//EN
CALSCALE:GREGORIAN
METHOD:PUBLISH
X-WR-CALNAME:Ecole d&#039;Aïkido de Concarneau
X-ORIGINAL-URL:https://www.aikidoconcarneau.fr
X-WR-CALDESC:évènements pour Ecole d&#039;Aïkido de Concarneau
REFRESH-INTERVAL;VALUE=DURATION:PT1H
X-Robots-Tag:noindex
X-PUBLISHED-TTL:PT1H
BEGIN:VTIMEZONE
TZID:Europe/Paris
BEGIN:DAYLIGHT
TZOFFSETFROM:+0100
TZOFFSETTO:+0200
TZNAME:CEST
DTSTART:20250330T010000
END:DAYLIGHT
BEGIN:STANDARD
TZOFFSETFROM:+0200
TZOFFSETTO:+0100
TZNAME:CET
DTSTART:20251026T010000
END:STANDARD
END:VTIMEZONE
BEGIN:VEVENT
DTSTART;TZID=Europe/Paris:20250111T110000
DTEND;TZID=Europe/Paris:20250111T170000
DTSTAMP:20260420T165240
CREATED:20241221T105343Z
LAST-MODIFIED:20241221T105343Z
UID:5843-1736593200-1736614800@www.aikidoconcarneau.fr
SUMMARY:Hélène Doué à Nantes
DESCRIPTION:
URL:https://www.aikidoconcarneau.fr/evenements/helene-doue-a-nantes/
LOCATION:Dojo du Petit Port\, Chemin de la Censive du Tertre\, Nantes\, 44300\, France
END:VEVENT
END:VCALENDAR